BEGIN:VCALENDAR
VERSION:2.0
PRODID:-//Islamiska F&ouml;rbundet - Stockholms Mosk&eacute; - ECPv6.15.14//NONSGML v1.0//EN
CALSCALE:GREGORIAN
METHOD:PUBLISH
X-WR-CALNAME:Islamiska F&ouml;rbundet - Stockholms Mosk&eacute;
X-ORIGINAL-URL:https://stockholmsmoske.se
X-WR-CALDESC:Händelser för Islamiska F&ouml;rbundet - Stockholms Mosk&eacute;
REFRESH-INTERVAL;VALUE=DURATION:PT1H
X-Robots-Tag:noindex
X-PUBLISHED-TTL:PT1H
BEGIN:VTIMEZONE
TZID:Europe/Stockholm
BEGIN:DAYLIGHT
TZOFFSETFROM:+0100
TZOFFSETTO:+0200
TZNAME:CEST
DTSTART:20220327T010000
END:DAYLIGHT
BEGIN:STANDARD
TZOFFSETFROM:+0200
TZOFFSETTO:+0100
TZNAME:CET
DTSTART:20221030T010000
END:STANDARD
BEGIN:DAYLIGHT
TZOFFSETFROM:+0100
TZOFFSETTO:+0200
TZNAME:CEST
DTSTART:20230326T010000
END:DAYLIGHT
BEGIN:STANDARD
TZOFFSETFROM:+0200
TZOFFSETTO:+0100
TZNAME:CET
DTSTART:20231029T010000
END:STANDARD
BEGIN:DAYLIGHT
TZOFFSETFROM:+0100
TZOFFSETTO:+0200
TZNAME:CEST
DTSTART:20240331T010000
END:DAYLIGHT
BEGIN:STANDARD
TZOFFSETFROM:+0200
TZOFFSETTO:+0100
TZNAME:CET
DTSTART:20241027T010000
END:STANDARD
END:VTIMEZONE
BEGIN:VEVENT
DTSTART;TZID=Europe/Stockholm:20230628T070000
DTEND;TZID=Europe/Stockholm:20230628T100000
DTSTAMP:20260422T010613
CREATED:20230626T095521Z
LAST-MODIFIED:20230626T131814Z
UID:3308-1687935600-1687946400@stockholmsmoske.se
SUMMARY:Eid bön - Eid al-Adha 2023
DESCRIPTION:
URL:https://stockholmsmoske.se/event/eid-bon-eid-al-adha-2023/
LOCATION:Mosken\, Kapellgränd 10\, Stockholm\, Stockholm\, 11625
CATEGORIES:Högtider och firanden
ORGANIZER;CN="Stockholms Mosk%C3%A9":MAILTO:info@stockholmsmoske.se
END:VEVENT
END:VCALENDAR